BEGIN:VCALENDAR
VERSION:2.0
PRODID:-//Squarespace Inc/Squarespace 6//v6//EN
BEGIN:VEVENT
UID:5ca436eaee6eb049a0fff233@squarespace.com
DTSTAMP:20190403T043501Z
DTSTART:20190718T070000Z
DTEND:20190718T110000Z
SUMMARY:Hive Launch Party
GEO:-35.258377;149.1314
LOCATION:Hive Property Canberra\, 243 Northbourne Avenue\, Lyneham\, ACT\, 
 2602\, Australia
END:VEVENT
END:VCALENDAR
